BEGIN:VCALENDAR
VERSION:2.0
PRODID:-//The Grand Lodge on Fifth - ECPv6.13.0//NONSGML v1.0//EN
CALSCALE:GREGORIAN
METHOD:PUBLISH
X-WR-CALNAME:The Grand Lodge on Fifth
X-ORIGINAL-URL:https://thegrandlodgeonfifth.com
X-WR-CALDESC:Events for The Grand Lodge on Fifth
REFRESH-INTERVAL;VALUE=DURATION:PT1H
X-Robots-Tag:noindex
X-PUBLISHED-TTL:PT1H
BEGIN:VTIMEZONE
TZID:UTC
BEGIN:STANDARD
TZOFFSETFROM:+0000
TZOFFSETTO:+0000
TZNAME:UTC
DTSTART:20240101T000000
END:STANDARD
END:VTIMEZONE
BEGIN:VEVENT
DTSTART;TZID=UTC:20250327T180000
DTEND;TZID=UTC:20250327T210000
DTSTAMP:20260419T134751
CREATED:20250118T195851Z
LAST-MODIFIED:20250312T141342Z
UID:9693-1743098400-1743109200@thegrandlodgeonfifth.com
SUMMARY:Thursdays at the Grand; Vittles and Fiddles
DESCRIPTION: 𝘍𝘪𝘥𝘥𝘭𝘦𝘴 & 𝘝𝘪𝘵𝘵𝘭𝘦𝘴  \n Join us every Thursday night for live Bluegrass music\, occasional open mic nights and special performances.\n 𝙁𝙚𝙖𝙩𝙪𝙧𝙞𝙣𝙜:\n Live music brought to you by 𝘧𝘪𝘯𝘦 Kentucky pickers A full bar with your favorite drinks Small Plates\, keeping you satisfied\n When: Every Thursday night Time: 6 PM-9 PM Music at 7:30 PM Where: 121 N 5th St. Paducah\, KY 42001\nBring your friends & family for a night of great music\, tasty bites\, and good vibes. Don’t miss out on the fun! 
URL:https://thegrandlodgeonfifth.com/event/thursdays-at-the-grand-vittles-and-fiddles-12/
LOCATION:Grand Hall
END:VEVENT
BEGIN:VEVENT
DTSTART;VALUE=DATE:20250321
DTEND;VALUE=DATE:20250324
DTSTAMP:20260419T134751
CREATED:20241107T210812Z
LAST-MODIFIED:20241107T210812Z
UID:9620-1742515200-1742774399@thegrandlodgeonfifth.com
SUMMARY:PRIVATE WEDDING-CONGRATS TO THE NEWLY WEDS
DESCRIPTION:
URL:https://thegrandlodgeonfifth.com/event/private-wedding-congrats-to-the-newly-weds/
LOCATION:Grand Hall
ATTACH;FMTTYPE=image/png:https://thegrandlodgeonfifth.com/wp-content/uploads/2024/10/Private-Event.png
END:VEVENT
BEGIN:VEVENT
DTSTART;TZID=UTC:20250320T180000
DTEND;TZID=UTC:20250320T210000
DTSTAMP:20260419T134751
CREATED:20250118T195732Z
LAST-MODIFIED:20250312T141226Z
UID:9691-1742493600-1742504400@thegrandlodgeonfifth.com
SUMMARY:Thursdays at the Grand; Vittles and Fiddles
DESCRIPTION: 𝘍𝘪𝘥𝘥𝘭𝘦𝘴 & 𝘝𝘪𝘵𝘵𝘭𝘦𝘴  \n Join us every Thursday night for live Bluegrass music\, occasional open mic nights and special performances.\n 𝙁𝙚𝙖𝙩𝙪𝙧𝙞𝙣𝙜:\n Live music brought to you by 𝘧𝘪𝘯𝘦 Kentucky pickers A full bar with your favorite drinks Small Plates\, keeping you satisfied\n When: Every Thursday night Time: 6 PM-9 PM Music at 7:30 PM Where: 121 N 5th St. Paducah\, KY 42001\nBring your friends & family for a night of great music\, tasty bites\, and good vibes. Don’t miss out on the fun! 
URL:https://thegrandlodgeonfifth.com/event/thursdays-at-the-grand-vittles-and-fiddles-11/
LOCATION:Grand Hall
END:VEVENT
BEGIN:VEVENT
DTSTART;TZID=UTC:20250313T180000
DTEND;TZID=UTC:20250313T210000
DTSTAMP:20260419T134751
CREATED:20250118T195514Z
LAST-MODIFIED:20250312T141048Z
UID:9689-1741888800-1741899600@thegrandlodgeonfifth.com
SUMMARY:Thursdays at the Grand; Open Mic host Fate McAfee
DESCRIPTION:Singer-songwriter 𝗙𝗮𝘁𝗲 𝗠𝗰𝗔𝗳𝗲𝗲 is hosting 𝗢𝗣𝗘𝗡 𝗠𝗜𝗖 𝗡𝗜𝗚𝗛𝗧 THIS Thursday! [3/13] 𝘕𝘰 𝘤𝘰𝘷𝘦𝘳. \n𝘈 𝘱𝘦𝘳𝘧𝘦𝘤𝘵 𝘰𝘤𝘤𝘢𝘴𝘪𝘰𝘯 𝘵𝘰 𝘱𝘳𝘦-𝘵𝘶𝘯𝘦 𝘧𝘰𝘳 𝘵𝘩𝘦 𝘰𝘷𝘦𝘳𝘯𝘪𝘨𝘩𝘵 𝘦𝘤𝘭𝘪𝘱𝘴𝘦! \n 𝗖𝗔𝗟𝗟 𝗙𝗢𝗥 𝗔𝗥𝗧𝗜𝗦𝗧𝗦: Singers\, songwriters\, instrumentalists….The Grand Lodge provides a beautiful stage to try out new material in a 𝗴𝗿𝗲𝗮𝘁 𝗹𝗶𝘀𝘁𝗲𝗻𝗶𝗻𝗴 𝗿𝗼𝗼𝗺 full of supportive creatives. 𝙒𝙚 𝙘𝙖𝙣’𝙩 𝙬𝙖𝙞𝙩 𝙩𝙤 𝙝𝙚𝙖𝙧 𝙬𝙝𝙖𝙩 𝙮𝙤𝙪 𝙝𝙖𝙫𝙚 𝙩𝙤 𝙨𝙝𝙖𝙧𝙚 𝙬𝙞𝙩𝙝 𝙪𝙨 𝙏𝙝𝙪𝙧𝙨𝙙𝙖𝙮!  \nWe are sharing the love >> 𝘢𝘯𝘥 𝘵𝘳𝘦𝘢𝘵𝘪𝘯𝘨 𝘢𝘭𝘭 𝘢𝘳𝘵𝘪𝘴𝘵𝘴 𝘢𝘯𝘥 𝘢𝘶𝘥𝘪𝘦𝘯𝘤𝘦 𝘮𝘦𝘮𝘣𝘦𝘳𝘴 𝘵𝘰 𝘢 𝘣𝘰𝘸𝘭 𝘰𝘧 𝘊𝘩𝘦𝘧 𝘛𝘰𝘮𝘪’𝘴 Tikka Masala til the pot is empty! If you’re extra hungry\, you can treat yourself to Samosas\, also available.  \n Full Bar \n6PM – 9PM\nMusic @7:30\nThursdays at the Grand\n𝙁𝙧𝙞𝙚𝙣𝙙𝙨\, 𝙥𝙡𝙚𝙖𝙨𝙚 𝙨𝙝𝙖𝙧𝙚 𝙨𝙤 𝙡𝙤𝙘𝙖𝙡 𝙢𝙪𝙨𝙞𝙘𝙞𝙖𝙣𝙨 𝙨𝙚𝙚 𝙩𝙝𝙞𝙨 𝙤𝙥𝙥𝙤𝙧𝙩𝙪𝙣𝙞𝙩𝙮!\n#partakeinpaducah #livemusic #Kentucky #yallcome #openmic #fate #thursdaysatthegrand #totaleclipseofthemic #gettogether
URL:https://thegrandlodgeonfifth.com/event/thursdays-at-the-grand-open-mic/
LOCATION:Grand Hall
ATTACH;FMTTYPE=image/jpeg:https://thegrandlodgeonfifth.com/wp-content/uploads/2025/01/03.14.25-VF.jpg
END:VEVENT
BEGIN:VEVENT
DTSTART;TZID=UTC:20250307T080000
DTEND;TZID=UTC:20250307T170000
DTSTAMP:20260419T134751
CREATED:20250307T193913Z
LAST-MODIFIED:20250307T193913Z
UID:9719-1741334400-1741366800@thegrandlodgeonfifth.com
SUMMARY:Private Event!
DESCRIPTION:Congrats to Hannah and Zach!
URL:https://thegrandlodgeonfifth.com/event/private-event-4/
ATTACH;FMTTYPE=image/png:https://thegrandlodgeonfifth.com/wp-content/uploads/2025/03/Closed_Private_Event_Blank_NoDate.png
END:VEVENT
BEGIN:VEVENT
DTSTART;TZID=UTC:20250306T180000
DTEND;TZID=UTC:20250306T210000
DTSTAMP:20260419T134751
CREATED:20250118T195421Z
LAST-MODIFIED:20250304T235417Z
UID:9687-1741284000-1741294800@thegrandlodgeonfifth.com
SUMMARY:Thursdays at the Grand; Vittles and Fiddles
DESCRIPTION:Step into March with a traditional Irish Jig! \nMake this Thursday GRAND & join us for a Celtic Trio featuring Josh Coffey\, Eddie Coffey & Patrick Padgett.\n\n\n𝘾𝙤𝙢𝙥𝙡𝙚𝙢𝙚𝙣𝙩𝙖𝙧𝙮 𝙎𝙤𝙪𝙥: Tortellini Soup\nOn the Menu: Pizza\n Full bar available\n Time: 6 PM-9 PM\n 𝗠𝘂𝘀𝗶𝗰 𝗮𝘁 𝟳:𝟯𝟬 𝗣𝗠\nThursdays at the Grand\n\n\n #irishmusic #stpatrickpadgett #partakeinpaducah
URL:https://thegrandlodgeonfifth.com/event/thursdays-at-the-grand-vittles-and-fiddles-9/
LOCATION:Grand Hall
ATTACH;FMTTYPE=image/jpeg:https://thegrandlodgeonfifth.com/wp-content/uploads/2025/01/481269924_1160705762419264_6793481118998916067_n.jpg
END:VEVENT
BEGIN:VEVENT
DTSTART;VALUE=DATE:20250228
DTEND;VALUE=DATE:20250301
DTSTAMP:20260419T134751
CREATED:20241107T210555Z
LAST-MODIFIED:20241107T210555Z
UID:9618-1740700800-1740787199@thegrandlodgeonfifth.com
SUMMARY:PRIVATE EVENT-REHEARSAL DINNER
DESCRIPTION:
URL:https://thegrandlodgeonfifth.com/event/private-event-rehearsal-dinner/
LOCATION:Grand Hall
ATTACH;FMTTYPE=image/png:https://thegrandlodgeonfifth.com/wp-content/uploads/2024/10/Private-Event.png
END:VEVENT
BEGIN:VEVENT
DTSTART;TZID=UTC:20250227T180000
DTEND;TZID=UTC:20250227T210000
DTSTAMP:20260419T134751
CREATED:20250118T195321Z
LAST-MODIFIED:20250118T195321Z
UID:9685-1740679200-1740690000@thegrandlodgeonfifth.com
SUMMARY:Thursdays at the Grand; Vittles and Fiddles
DESCRIPTION: 𝘍𝘪𝘥𝘥𝘭𝘦𝘴 & 𝘝𝘪𝘵𝘵𝘭𝘦𝘴  \n Join us every Thursday night for live Bluegrass music\, occasional open mic nights and special performances.\n 𝙁𝙚𝙖𝙩𝙪𝙧𝙞𝙣𝙜:\n Live music brought to you by 𝘧𝘪𝘯𝘦 Kentucky pickers A full bar with your favorite drinks Small Plates\, keeping you satisfied\n When: Every Thursday night Time: 6 PM-9 PM Music at 7:30 PM Where: 121 N 5th St. Paducah\, KY 42001\nBring your friends & family for a night of great music\, tasty bites\, and good vibes. Don’t miss out on the fun! 
URL:https://thegrandlodgeonfifth.com/event/thursdays-at-the-grand-vittles-and-fiddles-8/
LOCATION:Grand Hall
END:VEVENT
BEGIN:VEVENT
DTSTART;TZID=UTC:20250220T080000
DTEND;TZID=UTC:20250220T170000
DTSTAMP:20260419T134751
CREATED:20250118T195213Z
LAST-MODIFIED:20250118T195213Z
UID:9683-1740038400-1740070800@thegrandlodgeonfifth.com
SUMMARY:Thursdays at the Grand; Vittles and Fiddles
DESCRIPTION: 𝘍𝘪𝘥𝘥𝘭𝘦𝘴 & 𝘝𝘪𝘵𝘵𝘭𝘦𝘴  \n Join us every Thursday night for live Bluegrass music\, occasional open mic nights and special performances.\n 𝙁𝙚𝙖𝙩𝙪𝙧𝙞𝙣𝙜:\n Live music brought to you by 𝘧𝘪𝘯𝘦 Kentucky pickers A full bar with your favorite drinks Small Plates\, keeping you satisfied\n When: Every Thursday night Time: 6 PM-9 PM Music at 7:30 PM Where: 121 N 5th St. Paducah\, KY 42001\nBring your friends & family for a night of great music\, tasty bites\, and good vibes. Don’t miss out on the fun! 
URL:https://thegrandlodgeonfifth.com/event/thursdays-at-the-grand-vittles-and-fiddles-7/
LOCATION:Grand Hall
END:VEVENT
BEGIN:VEVENT
DTSTART;TZID=UTC:20250214T173000
DTEND;TZID=UTC:20250214T220000
DTSTAMP:20260419T134751
CREATED:20250129T164527Z
LAST-MODIFIED:20250129T164824Z
UID:9702-1739554200-1739570400@thegrandlodgeonfifth.com
SUMMARY:Taste of Love: A Winter Wine Dinner with Ben Sollee
DESCRIPTION:This Valentine’s Day\, don’t miss 𝘼 𝙏𝙖𝙨𝙩𝙚 𝙤𝙛 𝙇𝙤𝙫𝙚 at The Grand Lodge on Fifth!A very special winter evening Dinner Concert & Wine Tasting featuring the lovely cellist and composer 𝗕𝗲𝗻 𝗦𝗼𝗹𝗹𝗲𝗲.\n 𝘐𝘯𝘤𝘭𝘶𝘥𝘦𝘥 𝘸𝘪𝘵𝘩 𝘺𝘰𝘶𝘳 𝘵𝘪𝘤𝘬𝘦𝘵:\n Chef Tomi Blom has prepared a delectable menu 𝑓𝑢𝑙𝑙 𝑜𝑓 𝑙𝑜𝑣𝑒 to delight your taste buds\, carefully curated to accompany a wine tasting hosted by guest wine specialist Lucas Taylor.\nDinner to be followed by a wonderful evening of music with Kentucky musician and composer 𝗕𝗲𝗻 𝗦𝗼𝗹𝗹𝗲𝗲.\nDrawing on tonal influences from the American and global south\, Sollee’s vocals and unique cello style thread throughout his music\, binding seemingly disparate chapters of his journey. Sollee has been blurring boundaries with his musical style and career for nearly two decades- his latest album\, 𝙇𝙤𝙣𝙜 𝙃𝙖𝙪𝙡 (2024) is no exception.\nAfter his previous album in 2017\, Sollee took a break from touring to grow his family and deepen community connections in Louisville\, KY. Now a father of three\, Sollee has leaned into his work as a composer; scoring films such as 𝘓𝘈𝘕𝘋 from director Robin Wright\, and 𝘔𝘢𝘨𝘨𝘪𝘦 𝘔𝘰𝘳𝘳𝘦(𝘴)\, a John Slattery film featuring Tina Fey and John Hamm. He also scored the podcast series\, 𝗨𝗻𝗿𝗲𝗳𝗼𝗿𝗺𝗲𝗱\, which was recently nominated for a Peabody Award. Outside of music Sollee helped launch the non-profit 𝗖𝗮𝗻𝗼𝗽𝘆\, which supports Kentucky businesses positively impacting their communities and planet.\nWe are 𝘵𝘩𝘳𝘪𝘭𝘭𝘦𝘥 to have 𝗕𝗲𝗻 𝗦𝗼𝗹𝗹𝗲𝗲 perform at The Grand Lodge in historic\, downtown Paducah this Valentine’s evening. Help us give him a warm welcome! 𝘉𝘳𝘰𝘶𝘨𝘩𝘵 𝘵𝘰 𝘺𝘰𝘶 𝘣𝘺 11 𝘠𝘦𝘢𝘳 𝘐𝘵𝘤𝘩. \n 𝗪𝗵𝗮𝘁: Dinner\, Wine Tasting & Concert with 𝗕𝗲𝗻 𝗦𝗼𝗹𝗹𝗲𝗲 𝗪𝗵𝗲𝗻: Valentine’s Day | February 14\, 2025 Dinner seatings begin at 5:30PM Music at 7:00PM𝗪𝗵𝗲𝗿𝗲: The Grand Lodge on Fifth121 N 5th Street | Paducah\, KY\n[Full bar available for additional beverage purchases ]
URL:https://thegrandlodgeonfifth.com/event/taste-of-love-a-winter-wine-dinner-with-ben-sollee/
LOCATION:Grand Ballroom\, 121 N 5th St\, Paducah\, KY\, 42001\, United States
ATTACH;FMTTYPE=image/png:https://thegrandlodgeonfifth.com/wp-content/uploads/2025/01/Ben_Sollee_IG.png
END:VEVENT
BEGIN:VEVENT
DTSTART;TZID=UTC:20250213T180000
DTEND;TZID=UTC:20250213T210000
DTSTAMP:20260419T134751
CREATED:20250118T195111Z
LAST-MODIFIED:20250118T195111Z
UID:9681-1739469600-1739480400@thegrandlodgeonfifth.com
SUMMARY:Thursdays at the Grand; Vittles and Fiddles
DESCRIPTION: 𝘍𝘪𝘥𝘥𝘭𝘦𝘴 & 𝘝𝘪𝘵𝘵𝘭𝘦𝘴  \n Join us every Thursday night for live Bluegrass music\, occasional open mic nights and special performances.\n 𝙁𝙚𝙖𝙩𝙪𝙧𝙞𝙣𝙜:\n Live music brought to you by 𝘧𝘪𝘯𝘦 Kentucky pickers A full bar with your favorite drinks Small Plates\, keeping you satisfied\n When: Every Thursday night Time: 6 PM-9 PM Music at 7:30 PM Where: 121 N 5th St. Paducah\, KY 42001\nBring your friends & family for a night of great music\, tasty bites\, and good vibes. Don’t miss out on the fun! 
URL:https://thegrandlodgeonfifth.com/event/thursdays-at-the-grand-vittles-and-fiddles-6/
LOCATION:Grand Hall
END:VEVENT
BEGIN:VEVENT
DTSTART;VALUE=DATE:20250206
DTEND;VALUE=DATE:20250207
DTSTAMP:20260419T134751
CREATED:20250129T163713Z
LAST-MODIFIED:20250129T163950Z
UID:9699-1738800000-1738886399@thegrandlodgeonfifth.com
SUMMARY:CLOSED
DESCRIPTION:Closed tonight. See you next week!
URL:https://thegrandlodgeonfifth.com/event/thursdays-at-the-grand-canceled/
END:VEVENT
BEGIN:VEVENT
DTSTART;TZID=UTC:20250130T060000
DTEND;TZID=UTC:20250130T210000
DTSTAMP:20260419T134751
CREATED:20250118T194334Z
LAST-MODIFIED:20250118T194507Z
UID:9675-1738216800-1738270800@thegrandlodgeonfifth.com
SUMMARY:Thursdays at the Grand; Vittles and Fiddles
DESCRIPTION: 𝘍𝘪𝘥𝘥𝘭𝘦𝘴 & 𝘝𝘪𝘵𝘵𝘭𝘦𝘴  \n Join us every Thursday night for live Bluegrass music\, occasional open mic nights and special performances.\n 𝙁𝙚𝙖𝙩𝙪𝙧𝙞𝙣𝙜:\n Live music brought to you by 𝘧𝘪𝘯𝘦 Kentucky pickers A full bar with your favorite drinks Small Plates\, keeping you satisfied\n When: Every Thursday night Time: 6 PM-9 PM Music at 7:30 PM Where: 121 N 5th St. Paducah\, KY 42001\nBring your friends & family for a night of great music\, tasty bites\, and good vibes. Don’t miss out on the fun! 
URL:https://thegrandlodgeonfifth.com/event/9675/
LOCATION:Grand Hall
END:VEVENT
BEGIN:VEVENT
DTSTART;TZID=UTC:20250125T063000
DTEND;TZID=UTC:20250125T213000
DTSTAMP:20260419T134751
CREATED:20250118T194032Z
LAST-MODIFIED:20250118T194032Z
UID:9671-1737786600-1737840600@thegrandlodgeonfifth.com
SUMMARY:Country Music Line Dance with the Poplar Street Players
DESCRIPTION:Join us for a night of Country Music & Dancing at The Grand Lodge on Fifth!\nWe will be boot-scootin’ across the floor to the live tunes of the talented Poplar Street Players.\nDoors at 6:30 PMMusic at 7:00 PM\nFull bar will be available.\nStreet parking is available\, as well as the city lot adjacent to Four Rivers Behavioral Health on 5th Street\, and the Paducah Bank lot on Jefferson Street.\nTickets available online and at the door. $10\nSee y’all there!
URL:https://thegrandlodgeonfifth.com/event/country-music-line-dance-with-the-poplar-street-players/
LOCATION:Grand Ballroom\, 121 N 5th St\, Paducah\, KY\, 42001\, United States
ATTACH;FMTTYPE=image/png:https://thegrandlodgeonfifth.com/wp-content/uploads/2025/01/Ticket_Country_Line_Dance25.png
END:VEVENT
BEGIN:VEVENT
DTSTART;TZID=UTC:20250123T180000
DTEND;TZID=UTC:20250123T210000
DTSTAMP:20260419T134751
CREATED:20250118T194217Z
LAST-MODIFIED:20250118T194217Z
UID:9670-1737655200-1737666000@thegrandlodgeonfifth.com
SUMMARY:Thursdays at the Grand; Vittles and Fiddles
DESCRIPTION: 𝘍𝘪𝘥𝘥𝘭𝘦𝘴 & 𝘝𝘪𝘵𝘵𝘭𝘦𝘴  \n Join us every Thursday night for live Bluegrass music\, occasional open mic nights and special performances.\n 𝙁𝙚𝙖𝙩𝙪𝙧𝙞𝙣𝙜:\n Live music brought to you by 𝘧𝘪𝘯𝘦 Kentucky pickers A full bar with your favorite drinks Small Plates\, keeping you satisfied\n When: Every Thursday night Time: 6 PM-9 PM Music at 7:30 PM Where: 121 N 5th St. Paducah\, KY 42001\nBring your friends & family for a night of great music\, tasty bites\, and good vibes. Don’t miss out on the fun! 
URL:https://thegrandlodgeonfifth.com/event/thursdays-at-the-grand-vittles-and-fiddles-4/
LOCATION:Grand Hall
END:VEVENT
BEGIN:VEVENT
DTSTART;TZID=UTC:20250118T190000
DTEND;TZID=UTC:20250118T223000
DTSTAMP:20260419T134751
CREATED:20241218T180145Z
LAST-MODIFIED:20241218T180232Z
UID:9663-1737226800-1737239400@thegrandlodgeonfifth.com
SUMMARY:JD Graham and Daniel Neihoff
DESCRIPTION:The Grand Lodge presents: \nJD Graham and Daniel Neihoff \nThese two singer-songwriters will guide you on a transformative journey with their soul-shaking vocals and heart-wrenching lyrics. Join us in the Grand Hall for this revelatory showcase; it is one you do not want to miss. \nDoor opens at 7:00 PM \nMusic starts at 7:30 PM \nTickets are $25 at the door.
URL:https://thegrandlodgeonfifth.com/event/jd-graham-and-daniel-neihoff/
LOCATION:Grand Hall
ATTACH;FMTTYPE=image/png:https://thegrandlodgeonfifth.com/wp-content/uploads/2024/12/1920-x-1080-px.png
END:VEVENT
BEGIN:VEVENT
DTSTART;VALUE=DATE:20250114
DTEND;VALUE=DATE:20250115
DTSTAMP:20260419T134751
CREATED:20241107T210449Z
LAST-MODIFIED:20241107T210449Z
UID:9616-1736812800-1736899199@thegrandlodgeonfifth.com
SUMMARY:PRIVATE EVENT-CORPORATE MEETING
DESCRIPTION:
URL:https://thegrandlodgeonfifth.com/event/private-event-corporate-meeting/
LOCATION:Grand Hall
ATTACH;FMTTYPE=image/png:https://thegrandlodgeonfifth.com/wp-content/uploads/2024/10/Private-Event.png
END:VEVENT
BEGIN:VEVENT
DTSTART;VALUE=DATE:20250102
DTEND;VALUE=DATE:20250103
DTSTAMP:20260419T134751
CREATED:20241114T173423Z
LAST-MODIFIED:20241114T173634Z
UID:9647-1735776000-1735862399@thegrandlodgeonfifth.com
SUMMARY:Happy New Year! CLOSED
DESCRIPTION:
URL:https://thegrandlodgeonfifth.com/event/happy-new-year-closed/
END:VEVENT
BEGIN:VEVENT
DTSTART;TZID=UTC:20241231T200000
DTEND;TZID=UTC:20250101T003000
DTSTAMP:20260419T134751
CREATED:20241213T170931Z
LAST-MODIFIED:20241218T175710Z
UID:9655-1735675200-1735691400@thegrandlodgeonfifth.com
SUMMARY:A Grand New Year's Eve Ball
DESCRIPTION:The party you’ve been waiting to make your NYE plans for!  \nJoin us in the Grand Ball Room for a Grand New Year’s Eve Ball! Spend the last night of 2024 celebrating in historic style with great friends\, dancing\, cocktails and a splendid light buffet. We’ll toast the New Year all together with a bit of bubbly! \nYour Grand Ball Ticket Includes: \nGroove Lane LIVE! \nSolid Rock’it Boosters LIVE! \nLight hors d’oeuvres buffet \nChampagne Toast at Midnight\, of course! \n~ Also available ~ \nGatsby Era Cocktails \nFull Bar \nGet ready to party into 2025\, Paducah! \nGet your tickets by clicking on the website link below.
URL:https://thegrandlodgeonfifth.com/event/a-grand-new-years-eve-ball/
LOCATION:Grand Ballroom\, 121 N 5th St\, Paducah\, KY\, 42001\, United States
ATTACH;FMTTYPE=image/jpeg:https://thegrandlodgeonfifth.com/wp-content/uploads/2024/12/NYE_Grand_Lodge_2024_web.jpg
END:VEVENT
BEGIN:VEVENT
DTSTART;VALUE=DATE:20241226
DTEND;VALUE=DATE:20241227
DTSTAMP:20260419T134751
CREATED:20241114T173053Z
LAST-MODIFIED:20241114T173053Z
UID:9643-1735171200-1735257599@thegrandlodgeonfifth.com
SUMMARY:Happy Holidays! The Lodge is closed.
DESCRIPTION:
URL:https://thegrandlodgeonfifth.com/event/happy-holidays-the-lodge-is-closed/
END:VEVENT
BEGIN:VEVENT
DTSTART;TZID=UTC:20241219T163000
DTEND;TZID=UTC:20241219T210000
DTSTAMP:20260419T134751
CREATED:20241114T172708Z
LAST-MODIFIED:20241114T172822Z
UID:9639-1734625800-1734642000@thegrandlodgeonfifth.com
SUMMARY:Thursdays at the Grand; Vittles and Fiddles
DESCRIPTION: Vittles and Fiddles \nJoin us every Thursday night for live Bluegrass music! \n Featuring:\nToe-tapping tunes by the best Bluegrass musicians in town.A full bar with your favorite drinks.Delicious finger foods to satisfy your cravings.\n When: Every Thursday night Time: 4:30 PM-9:30PM Where: 121 N 5th St. Paducah\, KY 42001\nBring your friends for a night of great music\, tasty bites\, and good vibes. Don’t miss out on the fun! \nDon’t forget\, 4:30 PM – 6:30PM is our happy hour. Half off drinks!\n#VittlesAndFiddle #BluegrassMusic #LiveMusic #ThursdayNights #GoodTimes #thegrandlodge
URL:https://thegrandlodgeonfifth.com/event/thursdays-at-the-grand-vittles-and-fiddles-2/
LOCATION:Grand Hall
ATTACH;FMTTYPE=image/jpeg:https://thegrandlodgeonfifth.com/wp-content/uploads/2024/09/VF.jpg
END:VEVENT
BEGIN:VEVENT
DTSTART;VALUE=DATE:20241213
DTEND;VALUE=DATE:20241214
DTSTAMP:20260419T134751
CREATED:20241107T210334Z
LAST-MODIFIED:20241107T210334Z
UID:9614-1734048000-1734134399@thegrandlodgeonfifth.com
SUMMARY:PRIVATE EVENT-CHRISTMAS PARTY
DESCRIPTION:
URL:https://thegrandlodgeonfifth.com/event/private-event-christmas-party/
ATTACH;FMTTYPE=image/png:https://thegrandlodgeonfifth.com/wp-content/uploads/2024/10/Private-Event.png
END:VEVENT
BEGIN:VEVENT
DTSTART;VALUE=DATE:20241212
DTEND;VALUE=DATE:20241213
DTSTAMP:20260419T134751
CREATED:20241031T213808Z
LAST-MODIFIED:20241031T213808Z
UID:9602-1733961600-1734047999@thegrandlodgeonfifth.com
SUMMARY:Private Event
DESCRIPTION:
URL:https://thegrandlodgeonfifth.com/event/private-event/
ATTACH;FMTTYPE=image/png:https://thegrandlodgeonfifth.com/wp-content/uploads/2024/10/Private-Event.png
END:VEVENT
BEGIN:VEVENT
DTSTART;TZID=UTC:20241207T100000
DTEND;TZID=UTC:20241207T170000
DTSTAMP:20260419T134751
CREATED:20241114T172244Z
LAST-MODIFIED:20241114T172244Z
UID:9636-1733565600-1733590800@thegrandlodgeonfifth.com
SUMMARY:Christmas Parade Day Holiday Market
DESCRIPTION:Parade-Day  H O L I D A Y ~ M A R K E T Kick off the holiday season with a day full of cheer in the heart of historic\, downtown Paducah!\nOn 12/7/24\, as the city Christmas Parade gears up\, The Grand Lodge will be buzzing with local charm and handcrafted treasures! Join us for a festive one-of-a-kind Christmas shopping experience\, and make it an all day celebration with friends & family\, capping off the merriment watching our annual Christmas Parade.\n SHOP LOCAL. SHOP UNIQUE.  Fun for the whole family! \n A curated selection of over 13+ local artists and vendors offering unique\, handcrafted gifts.\n Sip & Savor: Enjoy delicious hot cocoa & festive cocktails  to warm your spirits while you shop!\n Meet SANTA! Snap a  photo & capture the magic of your little one (or you!) with the big guy before he heads down to the parade.\n Seasonal snacks & treats  Holiday music Gift wrapping available: all proceeds go to STAY Paducah Public Schools  \n WHEN: Saturday\, December 7\, 2024 10AM – 5PM 121 North 5th Street\, Paducah\, KY You can see the parade from here! Admission is FREE ~ Please make a donation to STAY if you are able \nSupport local artists\, celebrate the season & find the perfect gift for everyone on your list! Don’t miss this festive day of shopping & sharing the holiday spirit in downtown Paducah\, Kentucky!
URL:https://thegrandlodgeonfifth.com/event/christmas-parade-day-holiday-market/
LOCATION:Grand Hall
ATTACH;FMTTYPE=image/jpeg:https://thegrandlodgeonfifth.com/wp-content/uploads/2024/11/Holiday_Market_Poster_PROOF-3.jpg
END:VEVENT
BEGIN:VEVENT
DTSTART;TZID=UTC:20241205T163000
DTEND;TZID=UTC:20241205T210000
DTSTAMP:20260419T134751
CREATED:20241114T171756Z
LAST-MODIFIED:20241114T172943Z
UID:9634-1733416200-1733432400@thegrandlodgeonfifth.com
SUMMARY:Thursdays at the Grand; Vittles and Fiddles
DESCRIPTION: Vittles and Fiddles \nJoin us every Thursday night for live Bluegrass music! \n Featuring:\nToe-tapping tunes by the best Bluegrass musicians in town.A full bar with your favorite drinks.Delicious finger foods to satisfy your cravings.\n When: Every Thursday night Time: 4:30 PM-9:30PM Where: 121 N 5th St. Paducah\, KY 42001\nBring your friends for a night of great music\, tasty bites\, and good vibes. Don’t miss out on the fun! \nDon’t forget\, 4:30 PM – 6:30PM is our happy hour. Half off drinks!\n#VittlesAndFiddle #BluegrassMusic #LiveMusic #ThursdayNights #GoodTimes #thegrandlodge
URL:https://thegrandlodgeonfifth.com/event/thursdays-at-the-grand-vittles-and-fiddles/
LOCATION:Grand Hall
ATTACH;FMTTYPE=image/jpeg:https://thegrandlodgeonfifth.com/wp-content/uploads/2024/09/VF.jpg
END:VEVENT
BEGIN:VEVENT
DTSTART;TZID=UTC:20241129T080000
DTEND;TZID=UTC:20241130T235900
DTSTAMP:20260419T134751
CREATED:20241107T210136Z
LAST-MODIFIED:20241107T210136Z
UID:9612-1732867200-1733011140@thegrandlodgeonfifth.com
SUMMARY:PRIVATE WEDDING-Congrats to Jessica and Nick
DESCRIPTION:
URL:https://thegrandlodgeonfifth.com/event/private-wedding-congrats-to-jessica-and-nick/
LOCATION:Grand Hall
ATTACH;FMTTYPE=image/png:https://thegrandlodgeonfifth.com/wp-content/uploads/2024/10/Private-Event.png
END:VEVENT
BEGIN:VEVENT
DTSTART;TZID=UTC:20241128T080000
DTEND;TZID=UTC:20241128T170000
DTSTAMP:20260419T134751
CREATED:20241114T173153Z
LAST-MODIFIED:20241114T173209Z
UID:9645-1732780800-1732813200@thegrandlodgeonfifth.com
SUMMARY:Happy Thanksgiving-CLOSED
DESCRIPTION:
URL:https://thegrandlodgeonfifth.com/event/happy-thanksgiving-closed/
END:VEVENT
BEGIN:VEVENT
DTSTART;TZID=UTC:20241121T163000
DTEND;TZID=UTC:20241121T210000
DTSTAMP:20260419T134751
CREATED:20241114T170917Z
LAST-MODIFIED:20241114T171106Z
UID:9630-1732206600-1732222800@thegrandlodgeonfifth.com
SUMMARY:Thursdays at the Grand; Vittles and Fiddles
DESCRIPTION: Vittles and Fiddles \nJoin us every Thursday night for live Bluegrass music! \n Featuring:\nToe-tapping tunes by the best Bluegrass musicians in town.A full bar with your favorite drinks.Delicious finger foods to satisfy your cravings.\n When: Every Thursday night Time: 4:30 PM-9:00PM Where: 121 N 5th St. Paducah\, KY 42001\nBring your friends for a night of great music\, tasty bites\, and good vibes. Don’t miss out on the fun! \nDon’t forget\, 4:30 PM – 6:30PM is our happy hour. Half off drinks!\n#VittlesAndFiddle #BluegrassMusic #LiveMusic #ThursdayNights #GoodTimes #thegrandlodge
URL:https://thegrandlodgeonfifth.com/event/thursdays-at-the-grand/
LOCATION:Grand Hall
ATTACH;FMTTYPE=image/jpeg:https://thegrandlodgeonfifth.com/wp-content/uploads/2024/09/VF.jpg
END:VEVENT
BEGIN:VEVENT
DTSTART;TZID=UTC:20241114T163000
DTEND;TZID=UTC:20241114T210000
DTSTAMP:20260419T134751
CREATED:20241114T170700Z
LAST-MODIFIED:20241114T171036Z
UID:9628-1731601800-1731618000@thegrandlodgeonfifth.com
SUMMARY:Thursdays at the Grand; Vittles and Fiddles
DESCRIPTION:Half-price cocktails and wine from 4:30 PM to 6:30 PM. \nCome have a drink and grab a snack from our Grand Bar before music with Josh Coffey and Friends starts at 7:30 PM
URL:https://thegrandlodgeonfifth.com/event/9628/
LOCATION:Grand Hall
ATTACH;FMTTYPE=image/jpeg:https://thegrandlodgeonfifth.com/wp-content/uploads/2024/09/VF.jpg
END:VEVENT
BEGIN:VEVENT
DTSTART;TZID=UTC:20241031T163000
DTEND;TZID=UTC:20241031T210000
DTSTAMP:20260419T134751
CREATED:20241031T210654Z
LAST-MODIFIED:20241031T210654Z
UID:9598-1730392200-1730408400@thegrandlodgeonfifth.com
SUMMARY:Boo-grass at the Lodge
DESCRIPTION:Calling all Bluegrass fans\, Ghouls\, Goblins\, Wayward Witches & Big-eyed Monsters to a very special 𝗛𝗮𝗹𝗹𝗼𝘄𝗲𝗲𝗻 𝗡𝗶𝗴𝗵𝘁 version of  Fiddles & Vittles this Thursday! We’ll be playing a curated collection of murder ballads\, haunting tales and tunes of the 𝘥𝘦𝘤𝘦𝘢𝘴𝘦𝘥 ! \n\n\n Join us early for 𝗦𝗽𝗼𝗼𝗸𝘆 𝗛𝗮𝗽𝗽𝘆 𝗛𝗼𝘂𝗿 𝟭/𝟮 𝗣𝗿𝗶𝗰𝗲 𝗪𝗶𝗻𝗲 & 𝗖𝗼𝗰𝗸𝘁𝗮𝗶𝗹𝘀  4:30-6:30PM\n 𝙃𝙖𝙪𝙣𝙩𝙞𝙣𝙜 𝗠𝘂𝘀𝗶𝗰 @7:30PM \n Stop in for something 𝙨𝙖𝙫𝙤𝙧𝙮\n(A ghoul’s gotta eat!)\n….. before or after your tricks & treats! \n Make plans to be at The Grand this Halloween Night:  rain or moonshine!
URL:https://thegrandlodgeonfifth.com/event/boo-grass-at-the-lodge/
LOCATION:Grand Hall
ATTACH;FMTTYPE=image/jpeg:https://thegrandlodgeonfifth.com/wp-content/uploads/2024/10/464967125_1073881051101736_1593110117791597075_n.jpg
END:VEVENT
END:VCALENDAR