BEGIN:VCALENDAR
VERSION:2.0
PRODID:-//The Grand Lodge on Fifth - ECPv6.13.0//NONSGML v1.0//EN
CALSCALE:GREGORIAN
METHOD:PUBLISH
X-ORIGINAL-URL:https://thegrandlodgeonfifth.com
X-WR-CALDESC:Events for The Grand Lodge on Fifth
REFRESH-INTERVAL;VALUE=DURATION:PT1H
X-Robots-Tag:noindex
X-PUBLISHED-TTL:PT1H
BEGIN:VTIMEZONE
TZID:UTC
BEGIN:STANDARD
TZOFFSETFROM:+0000
TZOFFSETTO:+0000
TZNAME:UTC
DTSTART:20260101T000000
END:STANDARD
END:VTIMEZONE
BEGIN:VEVENT
DTSTART;TZID=UTC:20260704T080000
DTEND;TZID=UTC:20260704T170000
DTSTAMP:20260422T221041
CREATED:20260224T132606Z
LAST-MODIFIED:20260224T132606Z
UID:9846-1783152000-1783184400@thegrandlodgeonfifth.com
SUMMARY:LIVE MUSIC: Fate Mcafee Album Release
DESCRIPTION:Details coming soon
URL:https://thegrandlodgeonfifth.com/event/live-music-fate-mcafee-album-release/
END:VEVENT
BEGIN:VEVENT
DTSTART;TZID=UTC:20260705T080000
DTEND;TZID=UTC:20260705T170000
DTSTAMP:20260422T221041
CREATED:20260310T194353Z
LAST-MODIFIED:20260310T194353Z
UID:9869-1783238400-1783270800@thegrandlodgeonfifth.com
SUMMARY:LIVE MUSIC: Haas Sisters
DESCRIPTION:Details Coming Soon!
URL:https://thegrandlodgeonfifth.com/event/live-music-haas-sisters-2/
LOCATION:Grand Hall
END:VEVENT
BEGIN:VEVENT
DTSTART;VALUE=DATE:20260827
DTEND;VALUE=DATE:20260830
DTSTAMP:20260422T221041
CREATED:20260224T135909Z
LAST-MODIFIED:20260310T194546Z
UID:9854-1787788800-1788047999@thegrandlodgeonfifth.com
SUMMARY:Private Event
DESCRIPTION:
URL:https://thegrandlodgeonfifth.com/event/private-event-21/
END:VEVENT
BEGIN:VEVENT
DTSTART;VALUE=DATE:20260925
DTEND;VALUE=DATE:20260928
DTSTAMP:20260422T221041
CREATED:20260224T132416Z
LAST-MODIFIED:20260224T132416Z
UID:9844-1790294400-1790553599@thegrandlodgeonfifth.com
SUMMARY:Private Event
DESCRIPTION:
URL:https://thegrandlodgeonfifth.com/event/private-event-20/
END:VEVENT
BEGIN:VEVENT
DTSTART;VALUE=DATE:20261016
DTEND;VALUE=DATE:20261019
DTSTAMP:20260422T221041
CREATED:20260224T132316Z
LAST-MODIFIED:20260224T132316Z
UID:9842-1792108800-1792367999@thegrandlodgeonfifth.com
SUMMARY:Private Event
DESCRIPTION:
URL:https://thegrandlodgeonfifth.com/event/private-event-19/
END:VEVENT
BEGIN:VEVENT
DTSTART;VALUE=DATE:20261031
DTEND;VALUE=DATE:20261101
DTSTAMP:20260422T221041
CREATED:20260224T140035Z
LAST-MODIFIED:20260224T140035Z
UID:9856-1793404800-1793491199@thegrandlodgeonfifth.com
SUMMARY:LIVE MUSIC: Halloween Ball
DESCRIPTION:Details coming soon
URL:https://thegrandlodgeonfifth.com/event/live-music-halloween-ball/
END:VEVENT
BEGIN:VEVENT
DTSTART;VALUE=DATE:20261204
DTEND;VALUE=DATE:20261208
DTSTAMP:20260422T221041
CREATED:20260224T131920Z
LAST-MODIFIED:20260224T131920Z
UID:9836-1796342400-1796687999@thegrandlodgeonfifth.com
SUMMARY:Private Event
DESCRIPTION:
URL:https://thegrandlodgeonfifth.com/event/private-event-16/
END:VEVENT
BEGIN:VEVENT
DTSTART;VALUE=DATE:20261211
DTEND;VALUE=DATE:20261213
DTSTAMP:20260422T221041
CREATED:20260224T132027Z
LAST-MODIFIED:20260224T132027Z
UID:9838-1796947200-1797119999@thegrandlodgeonfifth.com
SUMMARY:Private Event
DESCRIPTION:
URL:https://thegrandlodgeonfifth.com/event/private-event-17/
END:VEVENT
BEGIN:VEVENT
DTSTART;VALUE=DATE:20261218
DTEND;VALUE=DATE:20261219
DTSTAMP:20260422T221041
CREATED:20260224T132205Z
LAST-MODIFIED:20260224T132205Z
UID:9840-1797552000-1797638399@thegrandlodgeonfifth.com
SUMMARY:Private Event
DESCRIPTION:
URL:https://thegrandlodgeonfifth.com/event/private-event-18/
END:VEVENT
BEGIN:VEVENT
DTSTART;VALUE=DATE:20261231
DTEND;VALUE=DATE:20270101
DTSTAMP:20260422T221041
CREATED:20260224T140138Z
LAST-MODIFIED:20260224T140138Z
UID:9858-1798675200-1798761599@thegrandlodgeonfifth.com
SUMMARY:LIVE MUSIC: New Year's Eve Ball
DESCRIPTION:Details coming soon
URL:https://thegrandlodgeonfifth.com/event/live-music-new-years-eve-ball/
END:VEVENT
END:VCALENDAR