BEGIN:VCALENDAR
VERSION:2.0
PRODID:-//The Grand Lodge on Fifth - ECPv6.13.0//NONSGML v1.0//EN
CALSCALE:GREGORIAN
METHOD:PUBLISH
X-ORIGINAL-URL:https://thegrandlodgeonfifth.com
X-WR-CALDESC:Events for The Grand Lodge on Fifth
REFRESH-INTERVAL;VALUE=DURATION:PT1H
X-Robots-Tag:noindex
X-PUBLISHED-TTL:PT1H
BEGIN:VTIMEZONE
TZID:UTC
BEGIN:STANDARD
TZOFFSETFROM:+0000
TZOFFSETTO:+0000
TZNAME:UTC
DTSTART:20260101T000000
END:STANDARD
END:VTIMEZONE
BEGIN:VEVENT
DTSTART;TZID=UTC:20260505T190000
DTEND;TZID=UTC:20260505T210000
DTSTAMP:20260422T113955
CREATED:20260224T135802Z
LAST-MODIFIED:20260224T135802Z
UID:9852-1778007600-1778014800@thegrandlodgeonfifth.com
SUMMARY:LIVE MUSIC: Kat Rivers with Gina Caturano
DESCRIPTION:Details coming soon
URL:https://thegrandlodgeonfifth.com/event/live-music-kat-rivers-with-gina-caturano/
END:VEVENT
END:VCALENDAR